BEGIN:VCALENDAR
VERSION:2.0
PRODID:-//Factlog - ECPv6.0.12//NONSGML v1.0//EN
CALSCALE:GREGORIAN
METHOD:PUBLISH
X-ORIGINAL-URL:https://www.factlog.eu
X-WR-CALDESC:Events for Factlog
REFRESH-INTERVAL;VALUE=DURATION:PT1H
X-Robots-Tag:noindex
X-PUBLISHED-TTL:PT1H
BEGIN:VTIMEZONE
TZID:Europe/London
BEGIN:DAYLIGHT
TZOFFSETFROM:+0000
TZOFFSETTO:+0100
TZNAME:BST
DTSTART:20200329T010000
END:DAYLIGHT
BEGIN:STANDARD
TZOFFSETFROM:+0100
TZOFFSETTO:+0000
TZNAME:GMT
DTSTART:20201025T010000
END:STANDARD
BEGIN:DAYLIGHT
TZOFFSETFROM:+0000
TZOFFSETTO:+0100
TZNAME:BST
DTSTART:20210328T010000
END:DAYLIGHT
BEGIN:STANDARD
TZOFFSETFROM:+0100
TZOFFSETTO:+0000
TZNAME:GMT
DTSTART:20211031T010000
END:STANDARD
BEGIN:DAYLIGHT
TZOFFSETFROM:+0000
TZOFFSETTO:+0100
TZNAME:BST
DTSTART:20220327T010000
END:DAYLIGHT
BEGIN:STANDARD
TZOFFSETFROM:+0100
TZOFFSETTO:+0000
TZNAME:GMT
DTSTART:20221030T010000
END:STANDARD
BEGIN:DAYLIGHT
TZOFFSETFROM:+0000
TZOFFSETTO:+0100
TZNAME:BST
DTSTART:20230326T010000
END:DAYLIGHT
BEGIN:STANDARD
TZOFFSETFROM:+0100
TZOFFSETTO:+0000
TZNAME:GMT
DTSTART:20231029T010000
END:STANDARD
END:VTIMEZONE
BEGIN:VEVENT
DTSTART;VALUE=DATE:20231025
DTEND;VALUE=DATE:20231028
DTSTAMP:20260421T080016
CREATED:20230428T150014Z
LAST-MODIFIED:20230428T153548Z
UID:3128-1698192000-1698451199@www.factlog.eu
SUMMARY:European BIG DATA VALUE Forum (EBDVF)
DESCRIPTION:The European Big Data Value Forum (EBDVF) brings together industry professionals\, business developers\, researchers and policy-makers from all over Europe and other regions of the world to advance policy actions\, and industrial and research activities in the areas of Data and AI.  \nThis year\, the event will take place in Valencia\, Spain on 25 – 27 October.\n \nThe EBDVF 2023 is organised by the Big Data Value Association (BDVA)\,in collaboration with INCLIVA VLC (Biomedical Research Institute)\, ITI (Investigate to Innovate)\, Polytechnic University of Madrid (Universidad Politecnica de Madrid)  Polytechnic University of Valencia (Universitat Politicnica de Valencia) and  the European Commission (DG CNECT).
URL:https://www.factlog.eu/event/european-big-data-value-forum-ebdvf/
LOCATION:Valencia\, Valencia\, Spain
CATEGORIES:Conference
ATTACH;FMTTYPE=image/png:https://www.factlog.eu/wp-content/uploads/2023/04/Screenshot-2023-04-28-at-15.23.46.png
END:VEVENT
BEGIN:VEVENT
DTSTART;VALUE=DATE:20230709
DTEND;VALUE=DATE:20230715
DTSTAMP:20260421T080016
CREATED:20230511T104637Z
LAST-MODIFIED:20230511T104637Z
UID:3149-1688860800-1689379199@www.factlog.eu
SUMMARY:IFAC World Congress 2023
DESCRIPTION:Since 1957\, the International Federation of Automatic Control (IFAC) has contributed greatly to promoting scientific activities and technological developments in the field of automatic control. The IFAC World Congress is the largest event in the field of control science and technology\, held every three years. It offers the most up-to-date and complete view of control techniques\, with the widest coverage of application fields\, and is attended by a worldwide audience of scientists and engineers from academia and industry.
URL:https://www.factlog.eu/event/ifac-world-congress-2023/
LOCATION:Japan\, Pacific Convention Plaza Yokohama(PACIFICO Yokohama) 1-1-1\, Minato Mirai\, Nishi-ku\, Yokohama\, Yokohama\, 220-0012\, Japan
CATEGORIES:Conference
ATTACH;FMTTYPE=image/png:https://www.factlog.eu/wp-content/uploads/2023/05/Unknown.png
END:VEVENT
BEGIN:VEVENT
DTSTART;TZID=Europe/London:20230619T083000
DTEND;TZID=Europe/London:20230625T180000
DTSTAMP:20260421T080016
CREATED:20230510T161343Z
LAST-MODIFIED:20230510T161449Z
UID:3142-1687163400-1687716000@www.factlog.eu
SUMMARY:Paris AirShow 2023
DESCRIPTION:The International Paris Air Show is organised by the SIAE\, a subsidiary of GIFAS\, French Aerospace Industries Association. \nThe 54th edition of the Show will take place at the Le Bourget Parc des Expositions in June 2023\, and once again will bring together all the players in this global industry around the latest technological innovations.\nThe first four days of the Show will be reserved for trade visitors\, followed by three days open to the general public.
URL:https://www.factlog.eu/event/paris-airshow-2023/
LOCATION:Paris\, Parc des Expositions Paris‐le Bourget Aéroport Paris‐le Bourget\, Le Bourget\, Le Boutget\, 93350\, France
CATEGORIES:Conference
ATTACH;FMTTYPE=image/jpeg:https://www.factlog.eu/wp-content/uploads/2023/05/Unknown.jpeg
END:VEVENT
BEGIN:VEVENT
DTSTART;VALUE=DATE:20230619
DTEND;VALUE=DATE:20230622
DTSTAMP:20260421T080016
CREATED:20230428T145728Z
LAST-MODIFIED:20230428T153600Z
UID:3123-1687132800-1687391999@www.factlog.eu
SUMMARY:TI - 2023: 1st Workshop on Next Generation IoT and AI systems for Trusted\, Human-Centered Intelligence
DESCRIPTION:For over a decade\, internet of things (IoT) and Artificial Intelligence (AI) technologies are boosting the competitiveness of organizations in sectors like manufacturing\, energy\, healthcare\, and smart cities. IoT technologies enable organizations to interact with the physical world through cyber-physical systems and internet connected objects towards improving the automation and efficiency of their business processes. At the same time\, AI technologies like machine learning and industrial robots facilitate organizations to derive insights from large volumes of structured and unstructured datasets\, which helps them to optimize business workflows and to improve the quality of their decisions. Also\, recent advances in IoT and AI systems ease the process of collecting and processing information from a large variety of distributed data sources\, including sensors\, automation devices\, smart objects and enterprises databases. Moreover\, they ensure secure and scalable information management\, as well as the execution of advanced analytics based on high-performance AI techniques like deep learning.
URL:https://www.factlog.eu/event/ti-2023-1st-workshop-on-next-generation-iot-and-ai-systems-for-trusted-human-centered-intelligence/
LOCATION:Cyprus\, Coral Bay\, Pafos\, Cyprus
CATEGORIES:Conference
ATTACH;FMTTYPE=image/png:https://www.factlog.eu/wp-content/uploads/2023/04/Screenshot-2023-04-28-at-12.50.36.png
END:VEVENT
BEGIN:VEVENT
DTSTART;TZID=Europe/London:20230606T090000
DTEND;TZID=Europe/London:20230608T170000
DTSTAMP:20260421T080016
CREATED:20230428T110114Z
LAST-MODIFIED:20230428T142653Z
UID:3111-1686042000-1686243600@www.factlog.eu
SUMMARY:Aircraft Interiors EXPO
DESCRIPTION:Aircraft Interiors Expo (AIX) is the world’s leading marketplace for airlines and the supply chain to meet. \nWe bring the whole industry together so you can explore and source the latest products\, find practical solutions\, collaborate and build relationships with the right people\, find the best products to enhance your cabin interiors\, and discover those hidden gems to create the ultimate cabin and passenger experience.
URL:https://www.factlog.eu/event/aircraft-interiors-expo-2/
LOCATION:Germany\, Hamburg Messe\, Messeplatz 1\, Hamburg\, 20357\, Germany
CATEGORIES:Conference
ATTACH;FMTTYPE=image/jpeg:https://www.factlog.eu/wp-content/uploads/2023/04/16466644118809.jpg
END:VEVENT
BEGIN:VEVENT
DTSTART;TZID=Europe/London:20221007T000000
DTEND;TZID=Europe/London:20221009T235959
DTSTAMP:20260421T080016
CREATED:20220628T073425Z
LAST-MODIFIED:20220628T073425Z
UID:2962-1665100800-1665359999@www.factlog.eu
SUMMARY:Hanse-Aerospace Networking Event (Sailing Cup)
DESCRIPTION:
URL:https://www.factlog.eu/event/hanse-aerospace-networking-event-sailing-cup/
LOCATION:Heiligenhafen\, Heiligenhafen\, Germany
CATEGORIES:Conference
END:VEVENT
BEGIN:VEVENT
DTSTART;TZID=Europe/London:20220718T000000
DTEND;TZID=Europe/London:20220722T235959
DTSTAMP:20260421T080016
CREATED:20220628T073140Z
LAST-MODIFIED:20220628T073141Z
UID:2956-1658102400-1658534399@www.factlog.eu
SUMMARY:Farnborough Airshow 2022
DESCRIPTION:
URL:https://www.factlog.eu/event/farnborough-airshow-2022/
LOCATION:Farnborough\, Farnborough\, United Kingdom
CATEGORIES:Conference
END:VEVENT
BEGIN:VEVENT
DTSTART;TZID=Europe/London:20220622T000000
DTEND;TZID=Europe/London:20220626T235959
DTSTAMP:20260421T080016
CREATED:20220628T072426Z
LAST-MODIFIED:20220628T072738Z
UID:2949-1655856000-1656287999@www.factlog.eu
SUMMARY:ILA Berlin
DESCRIPTION:
URL:https://www.factlog.eu/event/ila-berlin/
LOCATION:Berlin\, Berlin\, Germany
CATEGORIES:Conference
END:VEVENT
BEGIN:VEVENT
DTSTART;TZID=Europe/London:20220620T000000
DTEND;TZID=Europe/London:20220623T235959
DTSTAMP:20260421T080016
CREATED:20220628T072040Z
LAST-MODIFIED:20220628T073212Z
UID:2941-1655683200-1656028799@www.factlog.eu
SUMMARY:IoT-Week 2022
DESCRIPTION:
URL:https://www.factlog.eu/event/iot-week-2022/
LOCATION:Dublin\, Dublin\, Ireland
CATEGORIES:Conference
END:VEVENT
BEGIN:VEVENT
DTSTART;TZID=Europe/London:20220614T000000
DTEND;TZID=Europe/London:20220616T235959
DTSTAMP:20260421T080016
CREATED:20220628T072923Z
LAST-MODIFIED:20220628T072925Z
UID:2957-1655164800-1655423999@www.factlog.eu
SUMMARY:Aircraft Interiors Expo 2022
DESCRIPTION:
URL:https://www.factlog.eu/event/aircraft-interiors-expo-2022/
LOCATION:Hamburg\, Hamburg\, Germany
CATEGORIES:Conference
END:VEVENT
BEGIN:VEVENT
DTSTART;TZID=Europe/London:20220529T000000
DTEND;TZID=Europe/London:20220602T235959
DTSTAMP:20260421T080016
CREATED:20220628T071854Z
LAST-MODIFIED:20220628T071855Z
UID:2937-1653782400-1654214399@www.factlog.eu
SUMMARY:Hannover Messe (Hanover Fair) 2022
DESCRIPTION:
URL:https://www.factlog.eu/event/hannover-messe-hanover-fair-2022/
LOCATION:Hannover\, Hannover\, Germany
CATEGORIES:Conference
END:VEVENT
BEGIN:VEVENT
DTSTART;TZID=Europe/London:20220323T000000
DTEND;TZID=Europe/London:20220325T235959
DTSTAMP:20260421T080016
CREATED:20220628T072219Z
LAST-MODIFIED:20220628T072220Z
UID:2945-1647993600-1648252799@www.factlog.eu
SUMMARY:I-ESA 11th International Conference
DESCRIPTION:
URL:https://www.factlog.eu/event/i-esa-11th-international-conference/
LOCATION:Valencia\, Valencia\, Spain
CATEGORIES:Conference
END:VEVENT
BEGIN:VEVENT
DTSTART;VALUE=DATE:20210831
DTEND;VALUE=DATE:20210903
DTSTAMP:20260421T080016
CREATED:20201103T104239Z
LAST-MODIFIED:20220628T071151Z
UID:2206-1630368000-1630627199@www.factlog.eu
SUMMARY:Aircraft Interiors Expo 2021
DESCRIPTION:
URL:https://www.factlog.eu/event/aircraft-interiors-expo/
LOCATION:Hamburg\, Hamburg\, Germany
CATEGORIES:Conference
END:VEVENT
BEGIN:VEVENT
DTSTART;VALUE=DATE:20210621
DTEND;VALUE=DATE:20210628
DTSTAMP:20260421T080016
CREATED:20201103T104138Z
LAST-MODIFIED:20220628T071300Z
UID:2203-1624233600-1624838399@www.factlog.eu
SUMMARY:Paris Airshow 2021
DESCRIPTION:
URL:https://www.factlog.eu/event/paris-airshow/
LOCATION:Le Bourget\, Paris\, France
CATEGORIES:Conference
END:VEVENT
BEGIN:VEVENT
DTSTART;VALUE=DATE:20210412
DTEND;VALUE=DATE:20210417
DTSTAMP:20260421T080016
CREATED:20201103T103817Z
LAST-MODIFIED:20220628T071349Z
UID:2199-1618185600-1618617599@www.factlog.eu
SUMMARY:Hannover Messe (Hanover Fair) 2021
DESCRIPTION:
URL:https://www.factlog.eu/event/hannover-messe/
LOCATION:Hamburg\, Hamburg\, Germany
CATEGORIES:Conference
END:VEVENT
BEGIN:VEVENT
DTSTART;VALUE=DATE:20201117
DTEND;VALUE=DATE:20201121
DTSTAMP:20260421T080016
CREATED:20201103T105029Z
LAST-MODIFIED:20220628T071357Z
UID:2209-1605571200-1605916799@www.factlog.eu
SUMMARY:I-ESA 10th International Conference on Interoperability for Enterprise Systems and Applications 2020
DESCRIPTION:
URL:https://www.factlog.eu/event/i-esa/
LOCATION:Tarbes\, Tarbes\, France
CATEGORIES:Conference
END:VEVENT
END:VCALENDAR